BEGIN:VCALENDAR
VERSION:2.0
CALSCALE:GREGORIAN
PRODID:-//Diputació de Barcelona//DibaCMS//EN
BEGIN:VEVENT
UID:2375
DTSTAMP:20260423T010444
DTSTART:20240714T183000
DTEND:20240714T193000
SUMMARY:Concert LKFT. Taula de cultura  
LOCATION:Carrer Mossèn Pedragosa, 9-13 08461 Sant Esteve de Palautordera
METHOD:PUBLISH
X-WR-CALNAME:ajuntament@santestevedepalautordera.cat
X-WR-TIMEZONE:Europe/Madrid
DESCRIPTION:
URI:https://www.santestevedepalautordera.cat/actualitat/agenda/concert-lkft-taula-de-cultura-.html
CLASS:PUBLIC
END:VEVENT
END:VCALENDAR
