BEGIN:VCALENDAR
VERSION:2.0
CALSCALE:GREGORIAN
PRODID:-//Diputació de Barcelona//DibaCMS//EN
BEGIN:VEVENT
UID:2041
DTSTAMP:20260421T112254
DTSTART:20221113T080000
DTEND:20221113T160000
SUMMARY:Marató del Motseny 2022
LOCATION:
METHOD:PUBLISH
X-WR-CALNAME:ajuntament@santestevedepalautordera.cat
X-WR-TIMEZONE:Europe/Madrid
DESCRIPTION:
URI:https://www.santestevedepalautordera.cat/actualitat/agenda/marato-del-motseny-2022.html
CLASS:PUBLIC
END:VEVENT
END:VCALENDAR
