BEGIN:VCALENDAR
VERSION:2.0
CALSCALE:GREGORIAN
PRODID:-//Diputació de Barcelona//DibaCMS//EN
BEGIN:VEVENT
UID:DI_2720@www.santestevedepalautordera.cat
DTSTAMP:20260422T054739
DTSTART:20260422T180000
DTEND:20260422T193000
SUMMARY:Taller de capgrossos. Taula de Cultura
LOCATION:Carrer Mossèn Pedragosa, 9-13 08461 Sant Esteve de Palautordera
METHOD:PUBLISH
X-WR-CALNAME:ajuntament@santestevedepalautordera.cat
X-WR-TIMEZONE:Europe/Madrid
DESCRIPTION:
URI:https://www.santestevedepalautordera.cat/actualitat/agenda/2720-taller-de-capgrossos-taula-de-cultura.html
CLASS:PUBLIC
END:VEVENT
BEGIN:VEVENT
UID:DI_2730@www.santestevedepalautordera.cat
DTSTAMP:20260422T054739
DTSTART:20260422T180000
DTEND:20260422T190000
SUMMARY:Fem un drac, taller. Taula de Cultura
LOCATION:08461 Sant Esteve de Palautordera
METHOD:PUBLISH
X-WR-CALNAME:ajuntament@santestevedepalautordera.cat
X-WR-TIMEZONE:Europe/Madrid
DESCRIPTION:
URI:https://www.santestevedepalautordera.cat/actualitat/agenda/fem-un-drac-taller-taula-de-cultura.html
CLASS:PUBLIC
END:VEVENT
BEGIN:VEVENT
UID:DI_2648@www.santestevedepalautordera.cat
DTSTAMP:20260422T054739
DTSTART:20260422T191500
DTEND:20260422T204500
SUMMARY:Kilombo Salsero. Taula de Cultura
LOCATION:Carrer Mossèn Pedragosa, 9-13 08461 Sant Esteve de Palautordera
METHOD:PUBLISH
X-WR-CALNAME:ajuntament@santestevedepalautordera.cat
X-WR-TIMEZONE:Europe/Madrid
DESCRIPTION:
URI:https://www.santestevedepalautordera.cat/actualitat/agenda/kilombo-salsero-13.html
CLASS:PUBLIC
END:VEVENT
BEGIN:VEVENT
UID:DI_2713@www.santestevedepalautordera.cat
DTSTAMP:20260422T054739
DTSTART:20260423T163000
DTEND:20260423T180000
SUMMARY:Sant Jordi 2026 a Sant Esteve de Palautordera
LOCATION:08461 Sant Esteve de Palautordera
METHOD:PUBLISH
X-WR-CALNAME:ajuntament@santestevedepalautordera.cat
X-WR-TIMEZONE:Europe/Madrid
DESCRIPTION:
URI:https://www.santestevedepalautordera.cat/actualitat/agenda/sant-jordi-2026.html
CLASS:PUBLIC
END:VEVENT
BEGIN:VEVENT
UID:DI_2687@www.santestevedepalautordera.cat
DTSTAMP:20260422T054739
DTSTART:20260423T190000
DTEND:20260423T213000
SUMMARY:Queering Deepdance. Taula de Cultura
LOCATION:Carrer Mossèn Pedragosa, 9-13 08461 Sant Esteve de Palautordera
METHOD:PUBLISH
X-WR-CALNAME:ajuntament@santestevedepalautordera.cat
X-WR-TIMEZONE:Europe/Madrid
DESCRIPTION:
URI:https://www.santestevedepalautordera.cat/actualitat/agenda/queering-deepdance-taula-de-cultura-abril.html
CLASS:PUBLIC
END:VEVENT
BEGIN:VEVENT
UID:DI_2531@www.santestevedepalautordera.cat
DTSTAMP:20260422T054739
DTSTART:20260426T180000
DTEND:20260426T210000
SUMMARY:La Jam del Montseny. Taula de Cultura
LOCATION:Carrer Mossèn Pedragosa, 9-13 08461 Sant Esteve de Palautordera
METHOD:PUBLISH
X-WR-CALNAME:ajuntament@santestevedepalautordera.cat
X-WR-TIMEZONE:Europe/Madrid
DESCRIPTION:
URI:https://www.santestevedepalautordera.cat/actualitat/agenda/la-jam-del-montseny_13_25-26.html
CLASS:PUBLIC
END:VEVENT
BEGIN:VEVENT
UID:DI_2670@www.santestevedepalautordera.cat
DTSTAMP:20260422T054739
DTSTART:20260428T190000
DTEND:20260428T203000
SUMMARY:Dibuixa la teva vida, curs de còmic i conte i·lustrat autobiogràfic. Taula de Cultura
LOCATION:Carrer Mossèn Pedragosa, 9-13 08461 Sant Esteve de Palautordera
METHOD:PUBLISH
X-WR-CALNAME:ajuntament@santestevedepalautordera.cat
X-WR-TIMEZONE:Europe/Madrid
DESCRIPTION:
URI:https://www.santestevedepalautordera.cat/actualitat/agenda/dibuixa-la-teva-vida-curs-de-comic-6.html
CLASS:PUBLIC
END:VEVENT
BEGIN:VEVENT
UID:DI_2722@www.santestevedepalautordera.cat
DTSTAMP:20260422T054739
DTSTART:20260429T180000
DTEND:20260429T193000
SUMMARY:Taller de capgrossos. Taula de Cultura
LOCATION:Carrer Mossèn Pedragosa, 9-13 08461 Sant Esteve de Palautordera
METHOD:PUBLISH
X-WR-CALNAME:ajuntament@santestevedepalautordera.cat
X-WR-TIMEZONE:Europe/Madrid
DESCRIPTION:
URI:https://www.santestevedepalautordera.cat/actualitat/agenda/2722-taller-de-capgrossos-taula-de-cultura.html
CLASS:PUBLIC
END:VEVENT
BEGIN:VEVENT
UID:DI_2649@www.santestevedepalautordera.cat
DTSTAMP:20260422T054739
DTSTART:20260429T191500
DTEND:20260429T204500
SUMMARY:Kilombo Salsero. Taula de Cultura
LOCATION:Carrer Mossèn Pedragosa, 9-13 08461 Sant Esteve de Palautordera
METHOD:PUBLISH
X-WR-CALNAME:ajuntament@santestevedepalautordera.cat
X-WR-TIMEZONE:Europe/Madrid
DESCRIPTION:
URI:https://www.santestevedepalautordera.cat/actualitat/agenda/kilombo-salsero-14.html
CLASS:PUBLIC
END:VEVENT
BEGIN:VEVENT
UID:DI_2671@www.santestevedepalautordera.cat
DTSTAMP:20260422T054739
DTSTART:20260505T190000
DTEND:20260505T203000
SUMMARY:Dibuixa la teva vida, curs de còmic i conte i·lustrat autobiogràfic. Taula de Cultura
LOCATION:Carrer Mossèn Pedragosa, 9-13 08461 Sant Esteve de Palautordera
METHOD:PUBLISH
X-WR-CALNAME:ajuntament@santestevedepalautordera.cat
X-WR-TIMEZONE:Europe/Madrid
DESCRIPTION:
URI:https://www.santestevedepalautordera.cat/actualitat/agenda/dibuixa-la-teva-vida-curs-de-comic-7.html
CLASS:PUBLIC
END:VEVENT
BEGIN:VEVENT
UID:DI_2721@www.santestevedepalautordera.cat
DTSTAMP:20260422T054739
DTSTART:20260506T180000
DTEND:20260506T193000
SUMMARY:Taller de capgrossos. Taula de Cultura
LOCATION:Carrer Mossèn Pedragosa, 9-13 08461 Sant Esteve de Palautordera
METHOD:PUBLISH
X-WR-CALNAME:ajuntament@santestevedepalautordera.cat
X-WR-TIMEZONE:Europe/Madrid
DESCRIPTION:
URI:https://www.santestevedepalautordera.cat/actualitat/agenda/2721-taller-de-capgrossos-taula-de-cultura.html
CLASS:PUBLIC
END:VEVENT
BEGIN:VEVENT
UID:DI_2650@www.santestevedepalautordera.cat
DTSTAMP:20260422T054739
DTSTART:20260506T191500
DTEND:20260506T204500
SUMMARY:Kilombo Salsero. Taula de Cultura
LOCATION:Carrer Mossèn Pedragosa, 9-13 08461 Sant Esteve de Palautordera
METHOD:PUBLISH
X-WR-CALNAME:ajuntament@santestevedepalautordera.cat
X-WR-TIMEZONE:Europe/Madrid
DESCRIPTION:
URI:https://www.santestevedepalautordera.cat/actualitat/agenda/kilombo-salsero-15.html
CLASS:PUBLIC
END:VEVENT
BEGIN:VEVENT
UID:DI_2532@www.santestevedepalautordera.cat
DTSTAMP:20260422T054739
DTSTART:20260510T180000
DTEND:20260510T210000
SUMMARY:La Jam del Montseny. Taula de Cultura
LOCATION:Carrer Mossèn Pedragosa, 9-13 08461 Sant Esteve de Palautordera
METHOD:PUBLISH
X-WR-CALNAME:ajuntament@santestevedepalautordera.cat
X-WR-TIMEZONE:Europe/Madrid
DESCRIPTION:
URI:https://www.santestevedepalautordera.cat/actualitat/agenda/la-jam-del-montseny_14_25-26.html
CLASS:PUBLIC
END:VEVENT
BEGIN:VEVENT
UID:DI_2672@www.santestevedepalautordera.cat
DTSTAMP:20260422T054739
DTSTART:20260512T190000
DTEND:20260512T203000
SUMMARY:Dibuixa la teva vida, curs de còmic i conte i·lustrat autobiogràfic. Taula de Cultura
LOCATION:Carrer Mossèn Pedragosa, 9-13 08461 Sant Esteve de Palautordera
METHOD:PUBLISH
X-WR-CALNAME:ajuntament@santestevedepalautordera.cat
X-WR-TIMEZONE:Europe/Madrid
DESCRIPTION:
URI:https://www.santestevedepalautordera.cat/actualitat/agenda/dibuixa-la-teva-vida-curs-de-comic-8.html
CLASS:PUBLIC
END:VEVENT
BEGIN:VEVENT
UID:DI_2723@www.santestevedepalautordera.cat
DTSTAMP:20260422T054739
DTSTART:20260513T180000
DTEND:20260513T193000
SUMMARY:Taller de capgrossos. Taula de Cultura
LOCATION:Carrer Mossèn Pedragosa, 9-13 08461 Sant Esteve de Palautordera
METHOD:PUBLISH
X-WR-CALNAME:ajuntament@santestevedepalautordera.cat
X-WR-TIMEZONE:Europe/Madrid
DESCRIPTION:
URI:https://www.santestevedepalautordera.cat/actualitat/agenda/2723-taller-de-capgrossos-taula-de-cultura.html
CLASS:PUBLIC
END:VEVENT
BEGIN:VEVENT
UID:DI_2651@www.santestevedepalautordera.cat
DTSTAMP:20260422T054739
DTSTART:20260513T191500
DTEND:20260513T204500
SUMMARY:Kilombo Salsero. Taula de Cultura
LOCATION:Carrer Mossèn Pedragosa, 9-13 08461 Sant Esteve de Palautordera
METHOD:PUBLISH
X-WR-CALNAME:ajuntament@santestevedepalautordera.cat
X-WR-TIMEZONE:Europe/Madrid
DESCRIPTION:
URI:https://www.santestevedepalautordera.cat/actualitat/agenda/kilombo-salsero-16.html
CLASS:PUBLIC
END:VEVENT
BEGIN:VEVENT
UID:DI_2728@www.santestevedepalautordera.cat
DTSTAMP:20260422T054739
DTSTART:20260517T120000
DTEND:20260517T130000
SUMMARY:El qui no parla, espectacle per a nadons de 0 a 2 anys. Taula de Cultura
LOCATION:Carrer Mossèn Pedragosa, 9-13 08461 Sant Esteve de Palautordera
METHOD:PUBLISH
X-WR-CALNAME:ajuntament@santestevedepalautordera.cat
X-WR-TIMEZONE:Europe/Madrid
DESCRIPTION:
URI:https://www.santestevedepalautordera.cat/actualitat/agenda/el-qui-no-parla-espectacle-per-a-nadons-taula-de-cultura.html
CLASS:PUBLIC
END:VEVENT
BEGIN:VEVENT
UID:DI_2724@www.santestevedepalautordera.cat
DTSTAMP:20260422T054739
DTSTART:20260520T180000
DTEND:20260520T193000
SUMMARY:Taller de capgrossos. Taula de Cultura
LOCATION:Carrer Mossèn Pedragosa, 9-13 08461 Sant Esteve de Palautordera
METHOD:PUBLISH
X-WR-CALNAME:ajuntament@santestevedepalautordera.cat
X-WR-TIMEZONE:Europe/Madrid
DESCRIPTION:
URI:https://www.santestevedepalautordera.cat/actualitat/agenda/2724-taller-de-capgrossos-taula-de-cultura.html
CLASS:PUBLIC
END:VEVENT
BEGIN:VEVENT
UID:DI_2652@www.santestevedepalautordera.cat
DTSTAMP:20260422T054739
DTSTART:20260520T191500
DTEND:20260520T204500
SUMMARY:Kilombo Salsero. Taula de Cultura
LOCATION:Carrer Mossèn Pedragosa, 9-13 08461 Sant Esteve de Palautordera
METHOD:PUBLISH
X-WR-CALNAME:ajuntament@santestevedepalautordera.cat
X-WR-TIMEZONE:Europe/Madrid
DESCRIPTION:
URI:https://www.santestevedepalautordera.cat/actualitat/agenda/kilombo-salsero-17.html
CLASS:PUBLIC
END:VEVENT
BEGIN:VEVENT
UID:DI_2688@www.santestevedepalautordera.cat
DTSTAMP:20260422T054739
DTSTART:20260521T190000
DTEND:20260521T213000
SUMMARY:Queering Deepdance. Taula de Cultura
LOCATION:Carrer Mossèn Pedragosa, 9-13 08461 Sant Esteve de Palautordera
METHOD:PUBLISH
X-WR-CALNAME:ajuntament@santestevedepalautordera.cat
X-WR-TIMEZONE:Europe/Madrid
DESCRIPTION:
URI:https://www.santestevedepalautordera.cat/actualitat/agenda/queering-deepdance-taula-de-cultura-maig.html
CLASS:PUBLIC
END:VEVENT
BEGIN:VEVENT
UID:DI_2533@www.santestevedepalautordera.cat
DTSTAMP:20260422T054739
DTSTART:20260524T180000
DTEND:20260524T210000
SUMMARY:La Jam del Montseny. Taula de Cultura
LOCATION:Carrer Mossèn Pedragosa, 9-13 08461 Sant Esteve de Palautordera
METHOD:PUBLISH
X-WR-CALNAME:ajuntament@santestevedepalautordera.cat
X-WR-TIMEZONE:Europe/Madrid
DESCRIPTION:
URI:https://www.santestevedepalautordera.cat/actualitat/agenda/la-jam-del-montseny_15_25-26.html
CLASS:PUBLIC
END:VEVENT
BEGIN:VEVENT
UID:DI_2653@www.santestevedepalautordera.cat
DTSTAMP:20260422T054739
DTSTART:20260527T191500
DTEND:20260527T204500
SUMMARY:Kilombo Salsero. Taula de Cultura
LOCATION:Carrer Mossèn Pedragosa, 9-13 08461 Sant Esteve de Palautordera
METHOD:PUBLISH
X-WR-CALNAME:ajuntament@santestevedepalautordera.cat
X-WR-TIMEZONE:Europe/Madrid
DESCRIPTION:
URI:https://www.santestevedepalautordera.cat/actualitat/agenda/kilombo-salsero-18.html
CLASS:PUBLIC
END:VEVENT
BEGIN:VEVENT
UID:DI_2685@www.santestevedepalautordera.cat
DTSTAMP:20260422T054739
DTSTART:20260531T100000
DTEND:20260531T140000
SUMMARY:Taller de Clown amb Lisa Skjøth Madsen. Taula de Cultura
LOCATION:Carrer Mossèn Pedragosa, 9-13 08461 Sant Esteve de Palautordera
METHOD:PUBLISH
X-WR-CALNAME:ajuntament@santestevedepalautordera.cat
X-WR-TIMEZONE:Europe/Madrid
DESCRIPTION:
URI:https://www.santestevedepalautordera.cat/actualitat/agenda/taller3-clown-lisa-taula.html
CLASS:PUBLIC
END:VEVENT
BEGIN:VEVENT
UID:DI_2731@www.santestevedepalautordera.cat
DTSTAMP:20260422T054739
DTSTART:20260531T190000
DTEND:20260531T201500
SUMMARY:Ballarines de peus plans. Taula de Cultura
LOCATION:Carrer Mossèn Pedragosa, 9-13 08461 Sant Esteve de Palautordera
METHOD:PUBLISH
X-WR-CALNAME:ajuntament@santestevedepalautordera.cat
X-WR-TIMEZONE:Europe/Madrid
DESCRIPTION:
URI:https://www.santestevedepalautordera.cat/actualitat/agenda/ballarines-de-peus-plans-taula-de-cultura.html
CLASS:PUBLIC
END:VEVENT
BEGIN:VEVENT
UID:DI_2654@www.santestevedepalautordera.cat
DTSTAMP:20260422T054739
DTSTART:20260603T191500
DTEND:20260603T204500
SUMMARY:Kilombo Salsero. Taula de Cultura
LOCATION:Carrer Mossèn Pedragosa, 9-13 08461 Sant Esteve de Palautordera
METHOD:PUBLISH
X-WR-CALNAME:ajuntament@santestevedepalautordera.cat
X-WR-TIMEZONE:Europe/Madrid
DESCRIPTION:
URI:https://www.santestevedepalautordera.cat/actualitat/agenda/kilombo-salsero-19.html
CLASS:PUBLIC
END:VEVENT
BEGIN:VEVENT
UID:DI_2655@www.santestevedepalautordera.cat
DTSTAMP:20260422T054739
DTSTART:20260610T191500
DTEND:20260610T204500
SUMMARY:Kilombo Salsero. Taula de Cultura
LOCATION:Carrer Mossèn Pedragosa, 9-13 08461 Sant Esteve de Palautordera
METHOD:PUBLISH
X-WR-CALNAME:ajuntament@santestevedepalautordera.cat
X-WR-TIMEZONE:Europe/Madrid
DESCRIPTION:
URI:https://www.santestevedepalautordera.cat/actualitat/agenda/kilombo-salsero-20.html
CLASS:PUBLIC
END:VEVENT
BEGIN:VEVENT
UID:DI_2534@www.santestevedepalautordera.cat
DTSTAMP:20260422T054739
DTSTART:20260614T180000
DTEND:20260614T210000
SUMMARY:La Jam del Montseny. Taula de Cultura
LOCATION:Carrer Mossèn Pedragosa, 9-13 08461 Sant Esteve de Palautordera
METHOD:PUBLISH
X-WR-CALNAME:ajuntament@santestevedepalautordera.cat
X-WR-TIMEZONE:Europe/Madrid
DESCRIPTION:
URI:https://www.santestevedepalautordera.cat/actualitat/agenda/la-jam-del-montseny_16_25-26.html
CLASS:PUBLIC
END:VEVENT
BEGIN:VEVENT
UID:DI_2656@www.santestevedepalautordera.cat
DTSTAMP:20260422T054739
DTSTART:20260617T191500
DTEND:20260617T204500
SUMMARY:Kilombo Salsero. Taula de Cultura
LOCATION:Carrer Mossèn Pedragosa, 9-13 08461 Sant Esteve de Palautordera
METHOD:PUBLISH
X-WR-CALNAME:ajuntament@santestevedepalautordera.cat
X-WR-TIMEZONE:Europe/Madrid
DESCRIPTION:
URI:https://www.santestevedepalautordera.cat/actualitat/agenda/kilombo-salsero-21.html
CLASS:PUBLIC
END:VEVENT
BEGIN:VEVENT
UID:DI_2657@www.santestevedepalautordera.cat
DTSTAMP:20260422T054739
DTSTART:20260624T191500
DTEND:20260624T204500
SUMMARY:Kilombo Salsero. Taula de Cultura
LOCATION:Carrer Mossèn Pedragosa, 9-13 08461 Sant Esteve de Palautordera
METHOD:PUBLISH
X-WR-CALNAME:ajuntament@santestevedepalautordera.cat
X-WR-TIMEZONE:Europe/Madrid
DESCRIPTION:
URI:https://www.santestevedepalautordera.cat/actualitat/agenda/kilombo-salsero-22.html
CLASS:PUBLIC
END:VEVENT
BEGIN:VEVENT
UID:DI_2689@www.santestevedepalautordera.cat
DTSTAMP:20260422T054739
DTSTART:20260625T190000
DTEND:20260625T213000
SUMMARY:Queering Deepdance. Taula de Cultura
LOCATION:Carrer Mossèn Pedragosa, 9-13 08461 Sant Esteve de Palautordera
METHOD:PUBLISH
X-WR-CALNAME:ajuntament@santestevedepalautordera.cat
X-WR-TIMEZONE:Europe/Madrid
DESCRIPTION:
URI:https://www.santestevedepalautordera.cat/actualitat/agenda/queering-deepdance-taula-de-cultura-juny.html
CLASS:PUBLIC
END:VEVENT
BEGIN:VEVENT
UID:DI_2535@www.santestevedepalautordera.cat
DTSTAMP:20260422T054739
DTSTART:20260628T180000
DTEND:20260628T210000
SUMMARY:La Jam del Montseny. Taula de Cultura
LOCATION:Carrer Mossèn Pedragosa, 9-13 08461 Sant Esteve de Palautordera
METHOD:PUBLISH
X-WR-CALNAME:ajuntament@santestevedepalautordera.cat
X-WR-TIMEZONE:Europe/Madrid
DESCRIPTION:
URI:https://www.santestevedepalautordera.cat/actualitat/agenda/la-jam-del-montseny_17_25-26.html
CLASS:PUBLIC
END:VEVENT
BEGIN:VEVENT
UID:DI_2659@www.santestevedepalautordera.cat
DTSTAMP:20260422T054739
DTSTART:20260701T191500
DTEND:20260701T204500
SUMMARY:Kilombo Salsero. Taula de Cultura
LOCATION:Carrer Mossèn Pedragosa, 9-13 08461 Sant Esteve de Palautordera
METHOD:PUBLISH
X-WR-CALNAME:ajuntament@santestevedepalautordera.cat
X-WR-TIMEZONE:Europe/Madrid
DESCRIPTION:
URI:https://www.santestevedepalautordera.cat/actualitat/agenda/kilombo-salsero-23.html
CLASS:PUBLIC
END:VEVENT
BEGIN:VEVENT
UID:DI_2660@www.santestevedepalautordera.cat
DTSTAMP:20260422T054739
DTSTART:20260708T191500
DTEND:20260708T204500
SUMMARY:Kilombo Salsero. Taula de Cultura
LOCATION:Carrer Mossèn Pedragosa, 9-13 08461 Sant Esteve de Palautordera
METHOD:PUBLISH
X-WR-CALNAME:ajuntament@santestevedepalautordera.cat
X-WR-TIMEZONE:Europe/Madrid
DESCRIPTION:
URI:https://www.santestevedepalautordera.cat/actualitat/agenda/kilombo-salsero-24.html
CLASS:PUBLIC
END:VEVENT
BEGIN:VEVENT
UID:DI_2536@www.santestevedepalautordera.cat
DTSTAMP:20260422T054739
DTSTART:20260712T180000
DTEND:20260712T210000
SUMMARY:La Jam del Montseny. Taula de Cultura
LOCATION:Carrer Mossèn Pedragosa, 9-13 08461 Sant Esteve de Palautordera
METHOD:PUBLISH
X-WR-CALNAME:ajuntament@santestevedepalautordera.cat
X-WR-TIMEZONE:Europe/Madrid
DESCRIPTION:
URI:https://www.santestevedepalautordera.cat/actualitat/agenda/la-jam-del-montseny_18_25-26.html
CLASS:PUBLIC
END:VEVENT
BEGIN:VEVENT
UID:DI_2658@www.santestevedepalautordera.cat
DTSTAMP:20260422T054739
DTSTART:20260715T191500
DTEND:20260715T204500
SUMMARY:Kilombo Salsero. Taula de Cultura
LOCATION:Carrer Mossèn Pedragosa, 9-13 08461 Sant Esteve de Palautordera
METHOD:PUBLISH
X-WR-CALNAME:ajuntament@santestevedepalautordera.cat
X-WR-TIMEZONE:Europe/Madrid
DESCRIPTION:
URI:https://www.santestevedepalautordera.cat/actualitat/agenda/kilombo-salsero-25.html
CLASS:PUBLIC
END:VEVENT
BEGIN:VEVENT
UID:DI_2661@www.santestevedepalautordera.cat
DTSTAMP:20260422T054739
DTSTART:20260722T191500
DTEND:20260722T204500
SUMMARY:Kilombo Salsero. Taula de Cultura
LOCATION:Carrer Mossèn Pedragosa, 9-13 08461 Sant Esteve de Palautordera
METHOD:PUBLISH
X-WR-CALNAME:ajuntament@santestevedepalautordera.cat
X-WR-TIMEZONE:Europe/Madrid
DESCRIPTION:
URI:https://www.santestevedepalautordera.cat/actualitat/agenda/kilombo-salsero-26.html
CLASS:PUBLIC
END:VEVENT
BEGIN:VEVENT
UID:DI_2537@www.santestevedepalautordera.cat
DTSTAMP:20260422T054739
DTSTART:20260726T180000
DTEND:20260726T210000
SUMMARY:La Jam del Montseny. Taula de Cultura
LOCATION:Carrer Mossèn Pedragosa, 9-13 08461 Sant Esteve de Palautordera
METHOD:PUBLISH
X-WR-CALNAME:ajuntament@santestevedepalautordera.cat
X-WR-TIMEZONE:Europe/Madrid
DESCRIPTION:
URI:https://www.santestevedepalautordera.cat/actualitat/agenda/la-jam-del-montseny-taula-de-cultura.html
CLASS:PUBLIC
END:VEVENT
BEGIN:VEVENT
UID:DI_2662@www.santestevedepalautordera.cat
DTSTAMP:20260422T054739
DTSTART:20260729T191500
DTEND:20260729T204500
SUMMARY:Kilombo Salsero. Taula de Cultura
LOCATION:Carrer Mossèn Pedragosa, 9-13 08461 Sant Esteve de Palautordera
METHOD:PUBLISH
X-WR-CALNAME:ajuntament@santestevedepalautordera.cat
X-WR-TIMEZONE:Europe/Madrid
DESCRIPTION:
URI:https://www.santestevedepalautordera.cat/actualitat/agenda/kilombo-salsero-27.html
CLASS:PUBLIC
END:VEVENT
END:VCALENDAR
